BEGIN:VCALENDAR
VERSION:2.0
PRODID:-//jEvents 2.0 for Joomla//EN
CALSCALE:GREGORIAN
METHOD:PUBLISH
BEGIN:VTIMEZONE
TZID:Europe/Zurich
END:VTIMEZONE
BEGIN:VEVENT
UID:cb0d0672e7a138510c1ba6666a6de80b
CATEGORIES:OGB Anlass
CREATED:20220519T080245
SUMMARY:Zukunft der Bodentruppen
LOCATION:Restaurant zum Äusseren Stand\, 3011 Bern
DESCRIPTION;ENCODING=QUOTED-PRINTABLE:\n\nDie Bodentruppen müssen im nächsten Jahrzehnt den Entwicklungen angepas
 st werden. Dazu&nbsp;kommt erheblicher Erneuerungsbedarf bei bestehenden Sy
 stemen. Der Kdt Heer, Div Wellinger, wird uns&nbsp;in die aktuelle Planung 
 der Zukunft der Bodentruppen einführen.\n\n\nWeitere Informationen finden S
 ie in der PDF Einladung.\n\n\nDie Veranstaltung beginnt um 18.30 Uhr und da
 uert ca. 1 Stunde. Im Anschluss daran wird ein&nbsp;Apéro offeriert. \nEs h
 andelt sich um eine offene Veranstaltung. Bringen Sie Ihre Freunde und Beka
 nnten mit!\n
X-EXTRAINFO:Zukunft der Bodentruppen \nRestaurant zum Äusseren StandReferat von Div Ren
 é Wellinger
DTSTAMP:20260425T150126Z
DTSTART;TZID=Europe/Zurich:20221004T183000
SEQUENCE:0
TRANSP:OPAQUE
END:VEVENT
END:VCALENDAR