BEGIN:VCALENDAR
VERSION:2.0
PRODID:-//jEvents 2.0 for Joomla//EN
CALSCALE:GREGORIAN
METHOD:PUBLISH
BEGIN:VTIMEZONE
TZID:Europe/Zurich
BEGIN:STANDARD
DTSTART:20171029T020000
RDATE:20180325T030000
TZOFFSETFROM:+0200
TZOFFSETTO:+0100
TZNAME:Europe/Zurich CET
END:STANDARD
BEGIN:STANDARD
DTSTART:20181028T020000
RDATE:20190331T030000
TZOFFSETFROM:+0200
TZOFFSETTO:+0100
TZNAME:Europe/Zurich CET
END:STANDARD
BEGIN:STANDARD
DTSTART:20191027T020000
RDATE:20200329T030000
TZOFFSETFROM:+0200
TZOFFSETTO:+0100
TZNAME:Europe/Zurich CET
END:STANDARD
BEGIN:STANDARD
DTSTART:20201025T020000
RDATE:20210328T030000
TZOFFSETFROM:+0200
TZOFFSETTO:+0100
TZNAME:Europe/Zurich CET
END:STANDARD
BEGIN:DAYLIGHT
DTSTART:20170608T000000
RDATE:20171029T020000
TZOFFSETFROM:+0100
TZOFFSETTO:+0200
TZNAME:Europe/Zurich CEST
END:DAYLIGHT
BEGIN:DAYLIGHT
DTSTART:20180325T030000
RDATE:20181028T020000
TZOFFSETFROM:+0100
TZOFFSETTO:+0200
TZNAME:Europe/Zurich CEST
END:DAYLIGHT
BEGIN:DAYLIGHT
DTSTART:20190331T030000
RDATE:20191027T020000
TZOFFSETFROM:+0100
TZOFFSETTO:+0200
TZNAME:Europe/Zurich CEST
END:DAYLIGHT
BEGIN:DAYLIGHT
DTSTART:20200329T030000
RDATE:20201025T020000
TZOFFSETFROM:+0100
TZOFFSETTO:+0200
TZNAME:Europe/Zurich CEST
END:DAYLIGHT
END:VTIMEZONE
BEGIN:VEVENT
UID:6ffb702b76e6696f43f30d118267f323
CATEGORIES:AVIA
CREATED:20180308T164105
SUMMARY:Generalversammlung AVIA Luftwaffe inkl. Symposium
DESCRIPTION;ENCODING=QUOTED-PRINTABLE:\n\nDie Generalversammlung der AVIA Luftwaffe findet am 09.06.2018 im Flieg
 ermuseum in Dübendorf statt. \nAnträge an die Generalversammlung können bis
  10.04.2018 an den Zentralvorstand der AVIA Luftwaffe eingereicht werden.\n
 \n\nZeitgleich findet das AVIA Symposium in Dübendorf statt.\n\n AVIA - Ges
 ellschaft der Offiziere der Luftwaffe\nc/o Major Martin Schlatter\nam Dorfb
 ach 23, 8308 Illnau\nDiese E-Mail-Adresse ist vor Spambots geschützt! Zur A
 nzeige muss JavaScript eingeschaltet sein!
				document.getElementById('clo
 ak42156f5207bbf9b3ac8f1b5f66776c29').innerHTML = '';
				var prefix = '&#10
 9;a' + 'i&#108;' + '&#116;o';
				var path = 'hr' + 'ef' + '=';
				var add
 y42156f5207bbf9b3ac8f1b5f66776c29 = 's&#101;kr&#101;t&#97;r&#105;&#97;t' + 
 '&#64;';
				addy42156f5207bbf9b3ac8f1b5f66776c29 = addy42156f5207bbf9b3ac8
 f1b5f66776c29 + '&#97;v&#105;&#97;-l&#117;ftw&#97;ff&#101;' + '&#46;' + 'ch
 ';
				var addy_text42156f5207bbf9b3ac8f1b5f66776c29 = 's&#101;kr&#101;t&#9
 7;r&#105;&#97;t' + '&#64;' + '&#97;v&#105;&#97;-l&#117;ftw&#97;ff&#101;' + 
 '&#46;' + 'ch';document.getElementById('cloak42156f5207bbf9b3ac8f1b5f66776c
 29').innerHTML += ''+addy_text42156f5207bbf9b3ac8f1b5f66776c29+'';
		\n
DTSTAMP:20260425T222039Z
DTSTART;TZID=Europe/Zurich;VALUE=DATE:20180609
DTEND;TZID=Europe/Zurich;VALUE=DATE:20180610
SEQUENCE:0
TRANSP:OPAQUE
END:VEVENT
END:VCALENDAR